Package: CytoPipeline Version: 1.11.0 Command: /Library/Frameworks/R.framework/Resources/bin/R CMD INSTALL CytoPipeline StartedAt: 2025-11-25 15:49:12 -0500 (Tue, 25 Nov 2025) EndedAt: 2025-11-25 15:49:35 -0500 (Tue, 25 Nov 2025) EllapsedTime: 22.2 seconds RetCode: 0 Status: OK