Package: CytoPipelineGUI Version: 1.9.0 Command: rm -rf CytoPipelineGUI.buildbin-libdir && mkdir CytoPipelineGUI.buildbin-libdir && /Users/biocbuild/BBS/utils/build-universal.sh CytoPipelineGUI_1.9.0.tar.gz /Library/Frameworks/R.framework/Resources/bin/R CytoPipelineGUI.buildbin-libdir StartedAt: 2025-11-19 23:30:33 -0500 (Wed, 19 Nov 2025) EndedAt: 2025-11-19 23:30:41 -0500 (Wed, 19 Nov 2025) EllapsedTime: 7.2 seconds RetCode: 0 Status: OK PackageFile: CytoPipelineGUI_1.9.0.tgz PackageFileSize: 1.607 MiB