Package: CytoPipelineGUI Version: 1.9.0 Command: rm -rf CytoPipelineGUI.buildbin-libdir && mkdir CytoPipelineGUI.buildbin-libdir && /Users/biocbuild/BBS/utils/build-universal.sh CytoPipelineGUI_1.9.0.tar.gz /Library/Frameworks/R.framework/Resources/bin/R CytoPipelineGUI.buildbin-libdir StartedAt: 2025-11-20 01:29:08 -0500 (Thu, 20 Nov 2025) EndedAt: 2025-11-20 01:29:30 -0500 (Thu, 20 Nov 2025) EllapsedTime: 22.0 seconds RetCode: 0 Status: OK PackageFile: CytoPipelineGUI_1.9.0.tgz PackageFileSize: 1.606 MiB