Package: CytoPipelineGUI Version: 1.9.0 Command: /Library/Frameworks/R.framework/Resources/bin/R CMD build --keep-empty-dirs --no-resave-data CytoPipelineGUI StartedAt: 2025-11-19 16:42:36 -0500 (Wed, 19 Nov 2025) EndedAt: 2025-11-19 16:43:36 -0500 (Wed, 19 Nov 2025) EllapsedTime: 59.9 seconds RetCode: 0 Status: OK PackageFile: CytoPipelineGUI_1.9.0.tar.gz PackageFileSize: 1.723 MiB