Package: CytoPipelineGUI Version: 1.9.0 Command: /Library/Frameworks/R.framework/Resources/bin/R CMD INSTALL CytoPipelineGUI StartedAt: 2025-11-18 15:35:22 -0500 (Tue, 18 Nov 2025) EndedAt: 2025-11-18 15:35:42 -0500 (Tue, 18 Nov 2025) EllapsedTime: 19.6 seconds RetCode: 0 Status: OK