Package: CytoPipelineGUI Version: 1.9.0 Command: /home/biocbuild/bbs-3.23-bioc/R/bin/R CMD INSTALL CytoPipelineGUI StartedAt: 2025-11-18 16:28:26 -0500 (Tue, 18 Nov 2025) EndedAt: 2025-11-18 16:28:39 -0500 (Tue, 18 Nov 2025) EllapsedTime: 12.9 seconds RetCode: 0 Status: OK