Package: DRIMSeq Version: 1.39.0 Command: rm -rf DRIMSeq.buildbin-libdir && mkdir DRIMSeq.buildbin-libdir && /Users/biocbuild/BBS/utils/build-universal.sh DRIMSeq_1.39.0.tar.gz /Library/Frameworks/R.framework/Resources/bin/R DRIMSeq.buildbin-libdir StartedAt: 2025-11-18 23:39:11 -0500 (Tue, 18 Nov 2025) EndedAt: 2025-11-18 23:39:18 -0500 (Tue, 18 Nov 2025) EllapsedTime: 7.2 seconds RetCode: 0 Status: OK PackageFile: DRIMSeq_1.39.0.tgz PackageFileSize: 780.9 KiB