Package: DRIMSeq Version: 1.39.0 Command: /Library/Frameworks/R.framework/Resources/bin/R CMD build --keep-empty-dirs --no-resave-data DRIMSeq StartedAt: 2025-11-18 16:24:11 -0500 (Tue, 18 Nov 2025) EndedAt: 2025-11-18 16:25:03 -0500 (Tue, 18 Nov 2025) EllapsedTime: 52.6 seconds RetCode: 0 Status: OK PackageFile: DRIMSeq_1.39.0.tar.gz PackageFileSize: 481.5 KiB