Package: DRIMSeq Version: 1.39.0 Command: /Library/Frameworks/R.framework/Resources/bin/R CMD build --keep-empty-dirs --no-resave-data DRIMSeq StartedAt: 2025-11-19 16:53:36 -0500 (Wed, 19 Nov 2025) EndedAt: 2025-11-19 16:56:21 -0500 (Wed, 19 Nov 2025) EllapsedTime: 164.7 seconds RetCode: 0 Status: OK PackageFile: DRIMSeq_1.39.0.tar.gz PackageFileSize: 480.3 KiB