Package: DRIMSeq Version: 1.39.0 Command: /Library/Frameworks/R.framework/Resources/bin/R CMD INSTALL DRIMSeq StartedAt: 2025-11-18 15:33:36 -0500 (Tue, 18 Nov 2025) EndedAt: 2025-11-18 15:33:56 -0500 (Tue, 18 Nov 2025) EllapsedTime: 19.1 seconds RetCode: 0 Status: OK