Package: DRIMSeq Version: 1.39.0 Command: /home/biocbuild/bbs-3.23-bioc/R/bin/R CMD build --keep-empty-dirs --no-resave-data DRIMSeq StartedAt: 2025-11-19 17:27:01 -0500 (Wed, 19 Nov 2025) EndedAt: 2025-11-19 17:29:20 -0500 (Wed, 19 Nov 2025) EllapsedTime: 139.1 seconds RetCode: 0 Status: OK PackageFile: DRIMSeq_1.39.0.tar.gz PackageFileSize: 481.9 KiB