Package: DRIMSeq Version: 1.39.0 Command: /home/biocbuild/bbs-3.23-bioc/R/bin/R CMD INSTALL DRIMSeq StartedAt: 2025-11-19 15:38:10 -0500 (Wed, 19 Nov 2025) EndedAt: 2025-11-19 15:38:24 -0500 (Wed, 19 Nov 2025) EllapsedTime: 13.2 seconds RetCode: 0 Status: OK