Package: DeepPINCS Version: 1.19.0 Command: /Library/Frameworks/R.framework/Resources/bin/R CMD INSTALL DeepPINCS StartedAt: 2025-11-18 15:17:14 -0500 (Tue, 18 Nov 2025) EndedAt: 2025-11-18 15:17:20 -0500 (Tue, 18 Nov 2025) EllapsedTime: 5.8 seconds RetCode: 0 Status: OK