Package: DeepPINCS Version: 1.19.0 Command: /Library/Frameworks/R.framework/Resources/bin/R CMD build --keep-empty-dirs --no-resave-data DeepPINCS StartedAt: 2025-11-19 16:44:47 -0500 (Wed, 19 Nov 2025) EndedAt: 2025-11-19 16:47:07 -0500 (Wed, 19 Nov 2025) EllapsedTime: 139.4 seconds RetCode: 1 Status: ERROR PackageFile: None PackageFileSize: NA