Package: DeepPINCS Version: 1.19.0 Command: /Library/Frameworks/R.framework/Resources/bin/R CMD INSTALL DeepPINCS StartedAt: 2025-11-19 15:19:36 -0500 (Wed, 19 Nov 2025) EndedAt: 2025-11-19 15:19:58 -0500 (Wed, 19 Nov 2025) EllapsedTime: 22.1 seconds RetCode: 0 Status: OK