Package: DeepPINCS Version: 1.19.0 Command: /home/biocbuild/bbs-3.23-bioc/R/bin/R CMD build --keep-empty-dirs --no-resave-data DeepPINCS StartedAt: 2025-11-18 18:03:39 -0500 (Tue, 18 Nov 2025) EndedAt: 2025-11-18 18:04:08 -0500 (Tue, 18 Nov 2025) EllapsedTime: 29.0 seconds RetCode: 0 Status: OK PackageFile: DeepPINCS_1.19.0.tar.gz PackageFileSize: 2.438 MiB