Package: DeepPINCS Version: 1.19.0 Command: /home/biocbuild/bbs-3.23-bioc/R/bin/R CMD INSTALL DeepPINCS StartedAt: 2025-11-19 15:14:57 -0500 (Wed, 19 Nov 2025) EndedAt: 2025-11-19 15:15:12 -0500 (Wed, 19 Nov 2025) EllapsedTime: 15.6 seconds RetCode: 0 Status: OK