Package: DelayedArray Version: 0.37.0 Command: rm -rf DelayedArray.buildbin-libdir && mkdir DelayedArray.buildbin-libdir && /Users/biocbuild/BBS/utils/build-universal.sh DelayedArray_0.37.0.tar.gz /Library/Frameworks/R.framework/Resources/bin/R DelayedArray.buildbin-libdir StartedAt: 2025-11-19 23:31:13 -0500 (Wed, 19 Nov 2025) EndedAt: 2025-11-19 23:31:28 -0500 (Wed, 19 Nov 2025) EllapsedTime: 14.4 seconds RetCode: 0 Status: OK PackageFile: DelayedArray_0.37.0.tgz PackageFileSize: 2.4 MiB