Package: DelayedArray Version: 0.37.0 Command: /Library/Frameworks/R.framework/Resources/bin/R CMD build --keep-empty-dirs --no-resave-data DelayedArray StartedAt: 2025-11-19 16:08:51 -0500 (Wed, 19 Nov 2025) EndedAt: 2025-11-19 16:09:19 -0500 (Wed, 19 Nov 2025) EllapsedTime: 27.3 seconds RetCode: 0 Status: OK PackageFile: DelayedArray_0.37.0.tar.gz PackageFileSize: 794.3 KiB