Package: DelayedArray Version: 0.37.0 Command: /Library/Frameworks/R.framework/Resources/bin/R CMD INSTALL DelayedArray StartedAt: 2025-11-19 15:09:32 -0500 (Wed, 19 Nov 2025) EndedAt: 2025-11-19 15:09:43 -0500 (Wed, 19 Nov 2025) EllapsedTime: 11.1 seconds RetCode: 0 Status: OK