Package: DelayedArray Version: 0.37.0 Command: rm -rf DelayedArray.buildbin-libdir && mkdir DelayedArray.buildbin-libdir && /Users/biocbuild/BBS/utils/build-universal.sh DelayedArray_0.37.0.tar.gz /Library/Frameworks/R.framework/Resources/bin/R DelayedArray.buildbin-libdir StartedAt: 2025-11-20 01:29:40 -0500 (Thu, 20 Nov 2025) EndedAt: 2025-11-20 01:30:25 -0500 (Thu, 20 Nov 2025) EllapsedTime: 45.9 seconds RetCode: 0 Status: OK PackageFile: DelayedArray_0.37.0.tgz PackageFileSize: 2.398 MiB