Package: DelayedArray Version: 0.37.0 Command: /Library/Frameworks/R.framework/Resources/bin/R CMD build --keep-empty-dirs --no-resave-data DelayedArray StartedAt: 2025-11-19 16:46:17 -0500 (Wed, 19 Nov 2025) EndedAt: 2025-11-19 16:47:42 -0500 (Wed, 19 Nov 2025) EllapsedTime: 84.6 seconds RetCode: 0 Status: OK PackageFile: DelayedArray_0.37.0.tar.gz PackageFileSize: 794.1 KiB