Package: DelayedDataFrame Version: 1.27.0 Command: /Library/Frameworks/R.framework/Resources/bin/R CMD INSTALL DelayedDataFrame StartedAt: 2025-11-19 15:10:11 -0500 (Wed, 19 Nov 2025) EndedAt: 2025-11-19 15:10:18 -0500 (Wed, 19 Nov 2025) EllapsedTime: 7.7 seconds RetCode: 0 Status: OK