Package: DelayedDataFrame Version: 1.27.0 Command: rm -rf DelayedDataFrame.buildbin-libdir && mkdir DelayedDataFrame.buildbin-libdir && /Users/biocbuild/BBS/utils/build-universal.sh DelayedDataFrame_1.27.0.tar.gz /Library/Frameworks/R.framework/Resources/bin/R DelayedDataFrame.buildbin-libdir StartedAt: 2025-11-20 01:29:42 -0500 (Thu, 20 Nov 2025) EndedAt: 2025-11-20 01:30:09 -0500 (Thu, 20 Nov 2025) EllapsedTime: 27.4 seconds RetCode: 0 Status: OK PackageFile: DelayedDataFrame_1.27.0.tgz PackageFileSize: 917.8 KiB