Package: DelayedDataFrame Version: 1.27.0 Command: /home/biocbuild/bbs-3.23-bioc/R/bin/R CMD build --keep-empty-dirs --no-resave-data DelayedDataFrame StartedAt: 2025-11-19 17:16:56 -0500 (Wed, 19 Nov 2025) EndedAt: 2025-11-19 17:17:24 -0500 (Wed, 19 Nov 2025) EllapsedTime: 28.0 seconds RetCode: 0 Status: OK PackageFile: DelayedDataFrame_1.27.0.tar.gz PackageFileSize: 486.5 KiB