Package: DelayedMatrixStats Version: 1.33.0 Command: rm -rf DelayedMatrixStats.buildbin-libdir && mkdir DelayedMatrixStats.buildbin-libdir && /Users/biocbuild/BBS/utils/build-universal.sh DelayedMatrixStats_1.33.0.tar.gz /Library/Frameworks/R.framework/Resources/bin/R DelayedMatrixStats.buildbin-libdir StartedAt: 2025-11-19 23:31:15 -0500 (Wed, 19 Nov 2025) EndedAt: 2025-11-19 23:31:26 -0500 (Wed, 19 Nov 2025) EllapsedTime: 10.3 seconds RetCode: 0 Status: OK PackageFile: DelayedMatrixStats_1.33.0.tgz PackageFileSize: 726.9 KiB