Package: DelayedMatrixStats Version: 1.33.0 Command: /Library/Frameworks/R.framework/Resources/bin/R CMD INSTALL DelayedMatrixStats StartedAt: 2025-11-19 15:10:04 -0500 (Wed, 19 Nov 2025) EndedAt: 2025-11-19 15:10:12 -0500 (Wed, 19 Nov 2025) EllapsedTime: 7.9 seconds RetCode: 0 Status: OK