Package: DelayedMatrixStats Version: 1.33.0 Command: rm -rf DelayedMatrixStats.buildbin-libdir && mkdir DelayedMatrixStats.buildbin-libdir && /Users/biocbuild/BBS/utils/build-universal.sh DelayedMatrixStats_1.33.0.tar.gz /Library/Frameworks/R.framework/Resources/bin/R DelayedMatrixStats.buildbin-libdir StartedAt: 2025-11-20 01:29:44 -0500 (Thu, 20 Nov 2025) EndedAt: 2025-11-20 01:30:16 -0500 (Thu, 20 Nov 2025) EllapsedTime: 32.0 seconds RetCode: 0 Status: OK PackageFile: DelayedMatrixStats_1.33.0.tgz PackageFileSize: 724.9 KiB