Package: DelayedMatrixStats Version: 1.33.0 Command: /Library/Frameworks/R.framework/Resources/bin/R CMD build --keep-empty-dirs --no-resave-data DelayedMatrixStats StartedAt: 2025-11-19 16:46:28 -0500 (Wed, 19 Nov 2025) EndedAt: 2025-11-19 16:52:06 -0500 (Wed, 19 Nov 2025) EllapsedTime: 338.3 seconds RetCode: 0 Status: OK PackageFile: DelayedMatrixStats_1.33.0.tar.gz PackageFileSize: 264.2 KiB