Package: DelayedMatrixStats Version: 1.33.0 Command: /home/biocbuild/bbs-3.23-bioc/R/bin/R CMD build --keep-empty-dirs --no-resave-data DelayedMatrixStats StartedAt: 2025-11-19 17:17:21 -0500 (Wed, 19 Nov 2025) EndedAt: 2025-11-19 17:21:33 -0500 (Wed, 19 Nov 2025) EllapsedTime: 252.2 seconds RetCode: 0 Status: OK PackageFile: DelayedMatrixStats_1.33.0.tar.gz PackageFileSize: 264.4 KiB