Package: DelayedMatrixStats Version: 1.33.0 Command: /home/biocbuild/bbs-3.23-bioc/R/bin/R CMD INSTALL DelayedMatrixStats StartedAt: 2025-11-19 15:20:25 -0500 (Wed, 19 Nov 2025) EndedAt: 2025-11-19 15:20:45 -0500 (Wed, 19 Nov 2025) EllapsedTime: 19.6 seconds RetCode: 0 Status: OK