Package: DelayedRandomArray Version: 1.19.0 Command: rm -rf DelayedRandomArray.buildbin-libdir && mkdir DelayedRandomArray.buildbin-libdir && /Users/biocbuild/BBS/utils/build-universal.sh DelayedRandomArray_1.19.0.tar.gz /Library/Frameworks/R.framework/Resources/bin/R DelayedRandomArray.buildbin-libdir StartedAt: 2025-11-19 23:31:17 -0500 (Wed, 19 Nov 2025) EndedAt: 2025-11-19 23:31:32 -0500 (Wed, 19 Nov 2025) EllapsedTime: 14.4 seconds RetCode: 0 Status: OK PackageFile: DelayedRandomArray_1.19.0.tgz PackageFileSize: 674.7 KiB