Package: DelayedRandomArray Version: 1.19.0 Command: /Library/Frameworks/R.framework/Resources/bin/R CMD build --keep-empty-dirs --no-resave-data DelayedRandomArray StartedAt: 2025-11-19 16:09:03 -0500 (Wed, 19 Nov 2025) EndedAt: 2025-11-19 16:09:20 -0500 (Wed, 19 Nov 2025) EllapsedTime: 17.2 seconds RetCode: 0 Status: OK PackageFile: DelayedRandomArray_1.19.0.tar.gz PackageFileSize: 318.6 KiB