Package: DelayedRandomArray Version: 1.19.0 Command: /Library/Frameworks/R.framework/Resources/bin/R CMD check --install=check:DelayedRandomArray.install-out.txt --library=/Library/Frameworks/R.framework/Resources/library --no-vignettes --timings DelayedRandomArray_1.19.0.tar.gz StartedAt: 2025-11-19 19:31:01 -0500 (Wed, 19 Nov 2025) EndedAt: 2025-11-19 19:32:01 -0500 (Wed, 19 Nov 2025) EllapsedTime: 60.7 seconds RetCode: 0 Status: OK CheckDir: DelayedRandomArray.Rcheck Warnings: 0