Package: DelayedRandomArray Version: 1.19.0 Command: /Library/Frameworks/R.framework/Resources/bin/R CMD INSTALL DelayedRandomArray StartedAt: 2025-11-19 15:09:58 -0500 (Wed, 19 Nov 2025) EndedAt: 2025-11-19 15:10:09 -0500 (Wed, 19 Nov 2025) EllapsedTime: 10.9 seconds RetCode: 0 Status: OK