Package: DelayedRandomArray Version: 1.19.0 Command: rm -rf DelayedRandomArray.buildbin-libdir && mkdir DelayedRandomArray.buildbin-libdir && /Users/biocbuild/BBS/utils/build-universal.sh DelayedRandomArray_1.19.0.tar.gz /Library/Frameworks/R.framework/Resources/bin/R DelayedRandomArray.buildbin-libdir StartedAt: 2025-11-20 01:29:44 -0500 (Thu, 20 Nov 2025) EndedAt: 2025-11-20 01:30:30 -0500 (Thu, 20 Nov 2025) EllapsedTime: 45.9 seconds RetCode: 0 Status: OK PackageFile: DelayedRandomArray_1.19.0.tgz PackageFileSize: 674.3 KiB