Package: DelayedRandomArray Version: 1.19.0 Command: /home/biocbuild/bbs-3.23-bioc/R/bin/R CMD build --keep-empty-dirs --no-resave-data DelayedRandomArray StartedAt: 2025-11-19 17:17:24 -0500 (Wed, 19 Nov 2025) EndedAt: 2025-11-19 17:18:05 -0500 (Wed, 19 Nov 2025) EllapsedTime: 41.1 seconds RetCode: 0 Status: OK PackageFile: DelayedRandomArray_1.19.0.tar.gz PackageFileSize: 318.7 KiB