Package: DelayedRandomArray Version: 1.19.0 Command: /home/biocbuild/bbs-3.23-bioc/R/bin/R CMD check --install=check:DelayedRandomArray.install-out.txt --library=/home/biocbuild/bbs-3.23-bioc/R/site-library --timings DelayedRandomArray_1.19.0.tar.gz StartedAt: 2025-11-19 22:51:31 -0500 (Wed, 19 Nov 2025) EndedAt: 2025-11-19 22:54:09 -0500 (Wed, 19 Nov 2025) EllapsedTime: 157.3 seconds RetCode: 0 Status: OK CheckDir: DelayedRandomArray.Rcheck Warnings: 0