Package: DelayedTensor Version: 1.17.0 Command: rm -rf DelayedTensor.buildbin-libdir && mkdir DelayedTensor.buildbin-libdir && /Users/biocbuild/BBS/utils/build-universal.sh DelayedTensor_1.17.0.tar.gz /Library/Frameworks/R.framework/Resources/bin/R DelayedTensor.buildbin-libdir StartedAt: 2025-11-19 23:31:17 -0500 (Wed, 19 Nov 2025) EndedAt: 2025-11-19 23:31:33 -0500 (Wed, 19 Nov 2025) EllapsedTime: 15.4 seconds RetCode: 0 Status: OK PackageFile: DelayedTensor_1.17.0.tgz PackageFileSize: 3.098 MiB