Package: DelayedTensor Version: 1.17.0 Command: /Library/Frameworks/R.framework/Resources/bin/R CMD INSTALL DelayedTensor StartedAt: 2025-11-19 15:31:21 -0500 (Wed, 19 Nov 2025) EndedAt: 2025-11-19 15:31:35 -0500 (Wed, 19 Nov 2025) EllapsedTime: 14.5 seconds RetCode: 0 Status: OK