Package: DelayedTensor Version: 1.17.0 Command: /Library/Frameworks/R.framework/Resources/bin/R CMD build --keep-empty-dirs --no-resave-data DelayedTensor StartedAt: 2025-11-19 16:47:00 -0500 (Wed, 19 Nov 2025) EndedAt: 2025-11-19 16:49:49 -0500 (Wed, 19 Nov 2025) EllapsedTime: 169.4 seconds RetCode: 0 Status: OK PackageFile: DelayedTensor_1.17.0.tar.gz PackageFileSize: 4.128 MiB