Package: DelayedTensor Version: 1.17.0 Command: /Library/Frameworks/R.framework/Resources/bin/R CMD INSTALL DelayedTensor StartedAt: 2025-11-19 15:53:15 -0500 (Wed, 19 Nov 2025) EndedAt: 2025-11-19 15:53:54 -0500 (Wed, 19 Nov 2025) EllapsedTime: 39.4 seconds RetCode: 0 Status: OK