Package: DelayedTensor Version: 1.17.0 Command: /home/biocbuild/bbs-3.23-bioc/R/bin/R CMD INSTALL DelayedTensor StartedAt: 2025-11-19 15:59:03 -0500 (Wed, 19 Nov 2025) EndedAt: 2025-11-19 15:59:32 -0500 (Wed, 19 Nov 2025) EllapsedTime: 28.8 seconds RetCode: 0 Status: OK