Package: DiffBind Version: 3.21.0 Command: rm -rf DiffBind.buildbin-libdir && mkdir DiffBind.buildbin-libdir && /Users/biocbuild/BBS/utils/build-universal.sh DiffBind_3.21.0.tar.gz /Library/Frameworks/R.framework/Resources/bin/R DiffBind.buildbin-libdir StartedAt: 2025-11-23 23:33:20 -0500 (Sun, 23 Nov 2025) EndedAt: 2025-11-23 23:33:59 -0500 (Sun, 23 Nov 2025) EllapsedTime: 39.0 seconds RetCode: 0 Status: OK PackageFile: DiffBind_3.21.0.tgz PackageFileSize: 7.061 MiB