Package: DiffBind Version: 3.21.0 Command: /Library/Frameworks/R.framework/Resources/bin/R CMD INSTALL DiffBind StartedAt: 2025-11-23 15:27:48 -0500 (Sun, 23 Nov 2025) EndedAt: 2025-11-23 15:28:16 -0500 (Sun, 23 Nov 2025) EllapsedTime: 28.7 seconds RetCode: 0 Status: OK