Package: DynDoc Version: 1.89.0 Command: /Library/Frameworks/R.framework/Resources/bin/R CMD INSTALL DynDoc StartedAt: 2025-11-18 15:12:15 -0500 (Tue, 18 Nov 2025) EndedAt: 2025-11-18 15:12:17 -0500 (Tue, 18 Nov 2025) EllapsedTime: 1.7 seconds RetCode: 0 Status: OK