Package: EBarrays Version: 2.75.0 Command: rm -rf EBarrays.buildbin-libdir && mkdir EBarrays.buildbin-libdir && /Users/biocbuild/BBS/utils/build-universal.sh EBarrays_2.75.0.tar.gz /Library/Frameworks/R.framework/Resources/bin/R EBarrays.buildbin-libdir StartedAt: 2025-11-19 23:32:36 -0500 (Wed, 19 Nov 2025) EndedAt: 2025-11-19 23:32:41 -0500 (Wed, 19 Nov 2025) EllapsedTime: 5.1 seconds RetCode: 0 Status: OK PackageFile: EBarrays_2.75.0.tgz PackageFileSize: 1.27 MiB