Package: EBarrays Version: 2.75.0 Command: /Library/Frameworks/R.framework/Resources/bin/R CMD INSTALL EBarrays StartedAt: 2025-11-18 15:17:38 -0500 (Tue, 18 Nov 2025) EndedAt: 2025-11-18 15:17:41 -0500 (Tue, 18 Nov 2025) EllapsedTime: 2.6 seconds RetCode: 0 Status: OK