Package: EBarrays Version: 2.75.0 Command: /Library/Frameworks/R.framework/Resources/bin/R CMD build --keep-empty-dirs --no-resave-data EBarrays StartedAt: 2025-11-18 16:51:49 -0500 (Tue, 18 Nov 2025) EndedAt: 2025-11-18 16:52:20 -0500 (Tue, 18 Nov 2025) EllapsedTime: 30.7 seconds RetCode: 0 Status: OK PackageFile: EBarrays_2.75.0.tar.gz PackageFileSize: 1.039 MiB