Package: EBarrays Version: 2.75.0 Command: /home/biocbuild/bbs-3.23-bioc/R/bin/R CMD build --keep-empty-dirs --no-resave-data EBarrays StartedAt: 2025-11-18 18:17:38 -0500 (Tue, 18 Nov 2025) EndedAt: 2025-11-18 18:17:55 -0500 (Tue, 18 Nov 2025) EllapsedTime: 17.0 seconds RetCode: 0 Status: OK PackageFile: EBarrays_2.75.0.tar.gz PackageFileSize: 1.04 MiB